BEGIN:VCALENDAR
VERSION:2.0
PRODID:-//GOC Care | Aged Care and Disability Services Brisbane &amp; Gold Coast - ECPv3.12.5//NONSGML v1.0//EN
CALSCALE:GREGORIAN
METHOD:PUBLISH
X-WR-CALNAME:GOC Care | Aged Care and Disability Services Brisbane &amp; Gold Coast
X-ORIGINAL-URL:http://goccare.com.au
X-WR-CALDESC:Events for GOC Care | Aged Care and Disability Services Brisbane &amp; Gold Coast
BEGIN:VEVENT
DTSTART;VALUE=DATE:20200522
DTEND;VALUE=DATE:20200524
DTSTAMP:20200228T163946Z
CREATED:20190530T014657Z
LAST-MODIFIED:20190903T041212Z
UID:3296-1590156000-1590328799@goccare.com.au
SUMMARY:Paniyiri 2020
DESCRIPTION:AUSTRALIA’S BIGGEST GREEK FESTIVAL\nIn 2019 Brisbane’s famous Paniyiri Greek Festival marked 43 years – a landmark cultural and celebratory milestone. Over four decades Paniyiri has grown to become Queensland’s signature celebration of all things Greek and the state’s largest cultural festival as well as the country’s longest running Greek festival – an admirable success story for the celebration that started in 1976 when a group of passionate Greek Australians wanted to share their cultural traditions with Brisbane.\n 
URL:http://goccare.com.au/event/paniyiri-2020/
LOCATION:Edmonstone Street\, South Brisbane\, QLD\, 4101\, Australia
CATEGORIES:Event
ATTACH;FMTTYPE=image/png:http://goccare.com.au/wp-content/uploads/2020.png
END:VEVENT
END:VCALENDAR